BEGIN:VCALENDAR
VERSION:2.0
PRODID:-//L&#039;Etoile du Nord French Immersion Parent Teacher Organization - ECPv6.15.20//NONSGML v1.0//EN
CALSCALE:GREGORIAN
METHOD:PUBLISH
X-WR-CALNAME:L&#039;Etoile du Nord French Immersion Parent Teacher Organization
X-ORIGINAL-URL:https://lnfi-pto.org
X-WR-CALDESC:Events for L&#039;Etoile du Nord French Immersion Parent Teacher Organization
REFRESH-INTERVAL;VALUE=DURATION:PT1H
X-Robots-Tag:noindex
X-PUBLISHED-TTL:PT1H
BEGIN:VTIMEZONE
TZID:America/Chicago
BEGIN:DAYLIGHT
TZOFFSETFROM:-0600
TZOFFSETTO:-0500
TZNAME:CDT
DTSTART:20240310T080000
END:DAYLIGHT
BEGIN:STANDARD
TZOFFSETFROM:-0500
TZOFFSETTO:-0600
TZNAME:CST
DTSTART:20241103T070000
END:STANDARD
BEGIN:DAYLIGHT
TZOFFSETFROM:-0600
TZOFFSETTO:-0500
TZNAME:CDT
DTSTART:20250309T080000
END:DAYLIGHT
BEGIN:STANDARD
TZOFFSETFROM:-0500
TZOFFSETTO:-0600
TZNAME:CST
DTSTART:20251102T070000
END:STANDARD
BEGIN:DAYLIGHT
TZOFFSETFROM:-0600
TZOFFSETTO:-0500
TZNAME:CDT
DTSTART:20260308T080000
END:DAYLIGHT
BEGIN:STANDARD
TZOFFSETFROM:-0500
TZOFFSETTO:-0600
TZNAME:CST
DTSTART:20261101T070000
END:STANDARD
END:VTIMEZONE
BEGIN:VTIMEZONE
TZID:UTC
BEGIN:STANDARD
TZOFFSETFROM:+0000
TZOFFSETTO:+0000
TZNAME:UTC
DTSTART:20220101T000000
END:STANDARD
END:VTIMEZONE
BEGIN:VEVENT
DTSTART;TZID=America/Chicago:20250423T160000
DTEND;TZID=America/Chicago:20250423T200000
DTSTAMP:20260421T152732
CREATED:20250204T230042Z
LAST-MODIFIED:20250204T230042Z
UID:5123-1745424000-1745438400@lnfi-pto.org
SUMMARY:LNFI Eats- Chipotle Fundraiser
DESCRIPTION:
URL:https://lnfi-pto.org/event/lnfi-eats-chipotle-fundraiser/
LOCATION:Chipotle\, 2303 White Bear Ave N\, Ste H\, Maplewood\, 55109\, United States
CATEGORIES:Fundraising
ATTACH;FMTTYPE=image/jpeg:https://lnfi-pto.org/wp-content/uploads/2025/02/536192-flyer.jpg
END:VEVENT
BEGIN:VEVENT
DTSTART;TZID=America/Chicago:20250227T080000
DTEND;TZID=America/Chicago:20250306T170000
DTSTAMP:20260421T152732
CREATED:20250301T194036Z
LAST-MODIFIED:20250301T195443Z
UID:5188-1740643200-1741280400@lnfi-pto.org
SUMMARY:Glow Run Fundraiser
DESCRIPTION:It’s GO…. time!!!! \n\n\n\nOur L’Etoile Du Nord Glow Run Fundraiser runs the first week in March! We’re raising $14\,000 for financing our French speaking teaching intern program\, teacher enrichment and grants\, community building activities and the Dance Residency and need YOUR help — it just takes a minute to sign up! Then\, share your page to friends & family!\n\n\n\nRegister your student here to get started!! http://mybooster.com/\n\n\n\nStudent’s will win prizes throughout the week and volunteers are still needed to help distribute prizes- sign up here: https://signup.com/go/uuZgymG\n\n\n\n Thank you for making a difference for our school!
URL:https://lnfi-pto.org/event/glow-run-fundraiser/
CATEGORIES:Fundraising
ATTACH;FMTTYPE=image/png:https://lnfi-pto.org/wp-content/uploads/2025/03/website-news-cover-31.png
END:VEVENT
BEGIN:VEVENT
DTSTART;TZID=America/Chicago:20250218T000000
DTEND;TZID=America/Chicago:20250218T220000
DTSTAMP:20260421T152732
CREATED:20250218T043338Z
LAST-MODIFIED:20250218T043338Z
UID:5150-1739836800-1739916000@lnfi-pto.org
SUMMARY:Plant Sale Fundraiser Final Day to Order
DESCRIPTION:THIS IS THE FINAL DAY TO ORDER – ORDERS CLOSE AT 10pm SHARP! \n  \nThe Spring Plant Sale Fundraiser is now open!! Flowers\, fruits\, vegetables\, plants cards and even a planting party are available through Gertens. The sale ends Monday\, March 31st at 10am. Orders will be available for pick up at school on May 9th from 3-7pm. \nQuestions? Contact coordinator Rebecca Koetter: paulandbecca04@gmail.com \nOrder online at: www.gertensfundraising.com\nEnter Store ID 442.\nPlace your order in cart.\nPay with a credit card on the website. \n 
URL:https://lnfi-pto.org/event/plant-sale-fundraiser-final-day-to-order/
CATEGORIES:Fundraising
ATTACH;FMTTYPE=image/png:https://lnfi-pto.org/wp-content/uploads/2025/02/website-news-cover-28.png
END:VEVENT
BEGIN:VEVENT
DTSTART;VALUE=DATE:20231002
DTEND;VALUE=DATE:20231014
DTSTAMP:20260421T152732
CREATED:20231002T161540Z
LAST-MODIFIED:20231002T164253Z
UID:4470-1696204800-1697241599@lnfi-pto.org
SUMMARY:Direct Donation Drive
DESCRIPTION:Please join us as we work to raise ⭐$13\,500 ⭐ The money we raise goes right back to students\, teachers\, and interns – to help our students become life-long learners who are successful in a global\, multilingual community. \nThe PTO’s largest budget item is our five French-speaking interns!!! Each year we have interns working with our students and teachers. They bring their energy\, language\, and culture to our school\, and help our students learn and grow. The PTO pays for these interns and PTO volunteers make the intern program run. \nWe have sent home a donation card and envelope with each student. We ask that you complete the card\, and return the card and envelope to your student’s classroom by Friday\, October 13\, 2023. Teachers will have a box to receive completed cards in each classroom. \nMerci for your commitment to our students!! Online contributions can be made on paypal: https://www.paypal.com/donate/?hosted_button_id=6AV8YAJR4G5Q6
URL:https://lnfi-pto.org/event/direct-donation-drive-2/
CATEGORIES:Fundraising
ATTACH;FMTTYPE=image/png:https://lnfi-pto.org/wp-content/uploads/2023/10/Direct-Donation-Drive.png
END:VEVENT
END:VCALENDAR