BEGIN:VCALENDAR
VERSION:2.0
PRODID:-//L&#039;Etoile du Nord French Immersion Parent Teacher Organization - ECPv6.15.20//NONSGML v1.0//EN
CALSCALE:GREGORIAN
METHOD:PUBLISH
X-WR-CALNAME:L&#039;Etoile du Nord French Immersion Parent Teacher Organization
X-ORIGINAL-URL:https://lnfi-pto.org
X-WR-CALDESC:Events for L&#039;Etoile du Nord French Immersion Parent Teacher Organization
REFRESH-INTERVAL;VALUE=DURATION:PT1H
X-Robots-Tag:noindex
X-PUBLISHED-TTL:PT1H
BEGIN:VTIMEZONE
TZID:America/Chicago
BEGIN:DAYLIGHT
TZOFFSETFROM:-0600
TZOFFSETTO:-0500
TZNAME:CDT
DTSTART:20250309T080000
END:DAYLIGHT
BEGIN:STANDARD
TZOFFSETFROM:-0500
TZOFFSETTO:-0600
TZNAME:CST
DTSTART:20251102T070000
END:STANDARD
BEGIN:DAYLIGHT
TZOFFSETFROM:-0600
TZOFFSETTO:-0500
TZNAME:CDT
DTSTART:20260308T080000
END:DAYLIGHT
BEGIN:STANDARD
TZOFFSETFROM:-0500
TZOFFSETTO:-0600
TZNAME:CST
DTSTART:20261101T070000
END:STANDARD
BEGIN:DAYLIGHT
TZOFFSETFROM:-0600
TZOFFSETTO:-0500
TZNAME:CDT
DTSTART:20270314T080000
END:DAYLIGHT
BEGIN:STANDARD
TZOFFSETFROM:-0500
TZOFFSETTO:-0600
TZNAME:CST
DTSTART:20271107T070000
END:STANDARD
END:VTIMEZONE
BEGIN:VEVENT
DTSTART;TZID=America/Chicago:20260421T180000
DTEND;TZID=America/Chicago:20260421T200000
DTSTAMP:20260421T095359
CREATED:20260415T213459Z
LAST-MODIFIED:20260415T213553Z
UID:5946-1776794400-1776801600@lnfi-pto.org
SUMMARY:Black History Month Celebration *Rescheduled Date*
DESCRIPTION:
URL:https://lnfi-pto.org/event/black-history-month-celebration-rescheduled-date/
ATTACH;FMTTYPE=image/png:https://lnfi-pto.org/wp-content/uploads/2026/04/LEtoile-du-nord-PTO.png
END:VEVENT
END:VCALENDAR